BEGIN:VCALENDAR
VERSION:2.0
CALSCALE:GREGORIAN
PRODID:adamgibbons/ics
METHOD:PUBLISH
X-PUBLISHED-TTL:PT1H
BEGIN:VEVENT
UID:0285dbb0-9dc1-4f85-91af-21a0beb0470b
SUMMARY:The Power of Arts and Technology Collaboration
DTSTAMP:20260425T112424Z
DTSTART:20171214T120000Z
DTEND:20171214T130000Z
URL:https://waag.org/en/event/power-arts-and-technology-collaboration
LOCATION:Webinar
CATEGORIES:art & science
CREATED:20171220T124400Z
LAST-MODIFIED:20190107T133100Z
END:VEVENT
END:VCALENDAR
