BEGIN:VCALENDAR
VERSION:2.0
CALSCALE:GREGORIAN
PRODID:adamgibbons/ics
METHOD:PUBLISH
X-PUBLISHED-TTL:PT1H
BEGIN:VEVENT
UID:032da019-b226-4055-adb4-19dfdcfcb6c7
SUMMARY:Opening: Vortex Harmonies
DTSTAMP:20260419T202721Z
DTSTART:20251023T140000Z
DTEND:20251023T150000Z
URL:https://waag.org/en/event/opening-vortex-harmonies
LOCATION:Van Abbemuseum\, Stratumsedijk 2\, Eindhoven
CATEGORIES:
CREATED:20250618T080200Z
LAST-MODIFIED:20251014T102700Z
END:VEVENT
END:VCALENDAR
