BEGIN:VCALENDAR
VERSION:2.0
CALSCALE:GREGORIAN
PRODID:adamgibbons/ics
METHOD:PUBLISH
X-PUBLISHED-TTL:PT1H
BEGIN:VEVENT
UID:03f6429b-e0b0-4193-b665-8330b0676ccc
SUMMARY:David Bollier and the City as a Commons
DTSTAMP:20260421T101201Z
DTSTART:20160901T170000Z
DTEND:20160901T170000Z
URL:https://waag.org/en/event/david-bollier-and-city-commons
LOCATION:Pakhuis de Zwijger\, Piet Heinkade 179\, Amsterdam
CATEGORIES:commons,open cities
CREATED:20180207T101800Z
LAST-MODIFIED:20190407T182700Z
END:VEVENT
END:VCALENDAR
