BEGIN:VCALENDAR
VERSION:2.0
CALSCALE:GREGORIAN
PRODID:adamgibbons/ics
METHOD:PUBLISH
X-PUBLISHED-TTL:PT1H
BEGIN:VEVENT
UID:0acf8689-15c1-40a9-a14b-d34a272cb092
SUMMARY:Care & ICT: mini seminar Nictiz
DTSTAMP:20260419T144554Z
DTSTART:20130313T140000Z
DTEND:20130313T160000Z
URL:https://waag.org/en/event/care-ict-mini-seminar-nictiz
LOCATION:Jaarbeurs Utrecht (Jaarbeursplein 6\, Utrecht)
CATEGORIES:digital social innovation,storytelling,serious gaming
CREATED:20130311T122700Z
LAST-MODIFIED:20190510T142800Z
END:VEVENT
END:VCALENDAR
