BEGIN:VCALENDAR
VERSION:2.0
CALSCALE:GREGORIAN
PRODID:adamgibbons/ics
METHOD:PUBLISH
X-PUBLISHED-TTL:PT1H
BEGIN:VEVENT
UID:0e39baa7-064c-4c30-bfb0-e7d899fab773
SUMMARY:Fluid Matter exhibition
DTSTAMP:20260425T112727Z
DTSTART:20161202T190000Z
DTEND:20161202T190000Z
URL:https://waag.org/en/event/fluid-matter-exhibition
LOCATION:MU Art Space\, Torenallee 40-06\, 5617 BD Eindhoven
CATEGORIES:bioart,biodesign
CREATED:20161121T140900Z
LAST-MODIFIED:20190406T173100Z
END:VEVENT
END:VCALENDAR
