BEGIN:VCALENDAR
VERSION:2.0
CALSCALE:GREGORIAN
PRODID:adamgibbons/ics
METHOD:PUBLISH
X-PUBLISHED-TTL:PT1H
BEGIN:VEVENT
UID:140ed702-3ab9-4b66-8164-ec713fdcd5ca
SUMMARY:Bio art labs conspiracy
DTSTAMP:20260421T135126Z
DTSTART:20140918T080000Z
DTEND:20140918T080000Z
URL:https://waag.org/en/event/bio-art-labs-conspiracy
LOCATION: Mediamatic Fabriek\, VOC–kade 10\, 1018 LG Amsterdam 
CATEGORIES:do it together bio,bioart
CREATED:20180204T173200Z
LAST-MODIFIED:20190406T095200Z
END:VEVENT
END:VCALENDAR
