BEGIN:VCALENDAR
VERSION:2.0
CALSCALE:GREGORIAN
PRODID:adamgibbons/ics
METHOD:PUBLISH
X-PUBLISHED-TTL:PT1H
BEGIN:VEVENT
UID:1d424da3-0c43-4da4-9b15-ff316db784ef
SUMMARY:The Arts Catalyst London: Martin O'Brien performance
DTSTAMP:20260420T025513Z
DTSTART:20150418T120000Z
DTEND:20150418T173000Z
URL:https://waag.org/en/event/arts-catalyst-london-martin-obrien-performanc
	e
LOCATION:The White Building\, London\, UK
CATEGORIES:artistic research
CREATED:20180208T102400Z
LAST-MODIFIED:20180804T141900Z
END:VEVENT
END:VCALENDAR
