BEGIN:VCALENDAR
VERSION:2.0
CALSCALE:GREGORIAN
PRODID:adamgibbons/ics
METHOD:PUBLISH
X-PUBLISHED-TTL:PT1H
BEGIN:VEVENT
UID:1f7bd9a4-0ba4-47f8-94bb-03f38e744317
SUMMARY:Maptime AMS #6
DTSTAMP:20260421T151257Z
DTSTART:20150415T153000Z
DTEND:20150415T200000Z
URL:https://waag.org/en/event/maptime-ams-6
LOCATION:Waag\, Nieuwmarkt 4\, 1012 CR Amsterdam
CATEGORIES:mapmaking
CREATED:20150317T084000Z
LAST-MODIFIED:20190703T134400Z
END:VEVENT
END:VCALENDAR
