BEGIN:VCALENDAR
VERSION:2.0
CALSCALE:GREGORIAN
PRODID:adamgibbons/ics
METHOD:PUBLISH
X-PUBLISHED-TTL:PT1H
BEGIN:VEVENT
UID:20fed7e9-cbea-43b9-83ae-7051d748da79
SUMMARY:RESET: Digital Rights 
DTSTAMP:20260424T170432Z
DTSTART:20200921T100000Z
DTEND:20200921T110000Z
URL:https://waag.org/nl/event/reset-digital-rights
LOCATION:ONLINE via Livecast\, Pakhuis de Zwijger 
CATEGORIES:digital rights
CREATED:20200916T081900Z
LAST-MODIFIED:20200916T082800Z
END:VEVENT
END:VCALENDAR
