BEGIN:VCALENDAR
VERSION:2.0
CALSCALE:GREGORIAN
PRODID:adamgibbons/ics
METHOD:PUBLISH
X-PUBLISHED-TTL:PT1H
BEGIN:VEVENT
UID:2871ac35-8a9b-490a-92c0-a814a521a1fc
SUMMARY:Waag Makes - De Thuismakers: knikkerbanen en kettingreacties
DTSTAMP:20260420T014327Z
DTSTART:20200402T070000Z
DTEND:20200410T070000Z
URL:https://waag.org/nl/event/waag-makes-de-thuismakers-knikkerbanen-en-ket
	tingreacties
LOCATION:Thuis
CATEGORIES:maker education,learning by making
CREATED:20200326T124800Z
LAST-MODIFIED:20231115T184500Z
END:VEVENT
END:VCALENDAR
