BEGIN:VCALENDAR
VERSION:2.0
CALSCALE:GREGORIAN
PRODID:adamgibbons/ics
METHOD:PUBLISH
X-PUBLISHED-TTL:PT1H
BEGIN:VEVENT
UID:2adf085c-494c-4a83-ad73-3a04f30da7e3
SUMMARY:Future Series #5: What if
DTSTAMP:20260421T183322Z
DTSTART:20151124T190000Z
DTEND:20151124T190000Z
URL:https://waag.org/en/event/future-series-5-what-if
LOCATION:Pakhuis de Zwijger\, Piet Heinkade 179\, Amsterdam
CATEGORIES:microorganisms,biodesign
CREATED:20151103T121000Z
LAST-MODIFIED:20190407T165200Z
END:VEVENT
END:VCALENDAR
