BEGIN:VCALENDAR
VERSION:2.0
CALSCALE:GREGORIAN
PRODID:adamgibbons/ics
METHOD:PUBLISH
X-PUBLISHED-TTL:PT1H
BEGIN:VEVENT
UID:2e562de7-64b5-43f1-ad21-9f37994851bc
SUMMARY:Buitenveldert - Spaar de Buurt #3
DTSTAMP:20260421T103945Z
DTSTART:20180205T090000Z
DTEND:20180205T120000Z
URL:https://waag.org/en/event/buitenveldert-spaar-de-buurt-3
LOCATION:Huis v.d. Wijk\, A.J. Ernststraat 112\, Amsterdam
CATEGORIES:inclusive citizenship,urban mobility
CREATED:20180103T164600Z
LAST-MODIFIED:20190407T102800Z
END:VEVENT
END:VCALENDAR
