BEGIN:VCALENDAR
VERSION:2.0
CALSCALE:GREGORIAN
PRODID:adamgibbons/ics
METHOD:PUBLISH
X-PUBLISHED-TTL:PT1H
BEGIN:VEVENT
UID:35b1431b-bc0c-4014-a14e-61596f00c9cd
SUMMARY:Marleen Stikker in Buitenhof over het vrije internet
DTSTAMP:20260423T095211Z
DTSTART:20181104T111000Z
DTEND:20181104T120000Z
URL:https://waag.org/nl/event/marleen-stikker-buitenhof-over-het-vrije-inte
	rnet
LOCATION:Buitenhof\, zondag 12.10 op NPO1
CATEGORIES:digital rights,privacy
CREATED:20181103T202300Z
LAST-MODIFIED:20181105T093300Z
END:VEVENT
END:VCALENDAR
