BEGIN:VCALENDAR
VERSION:2.0
CALSCALE:GREGORIAN
PRODID:adamgibbons/ics
METHOD:PUBLISH
X-PUBLISHED-TTL:PT1H
BEGIN:VEVENT
UID:3a02754d-efad-425e-8a05-0bfa8d44837f
SUMMARY:Social Innovation Meetup #6
DTSTAMP:20260419T150840Z
DTSTART:20131021T170000Z
DTEND:20131021T190000Z
URL:https://waag.org/en/event/social-innovation-meetup-6
LOCATION:Pakhuis de Zwijger\, Piet Heinkade 179\, Amsterdam
CATEGORIES:social innovation
CREATED:20131018T220100Z
LAST-MODIFIED:20190405T151300Z
END:VEVENT
END:VCALENDAR
