BEGIN:VCALENDAR
VERSION:2.0
CALSCALE:GREGORIAN
PRODID:adamgibbons/ics
METHOD:PUBLISH
X-PUBLISHED-TTL:PT1H
BEGIN:VEVENT
UID:3be80210-5a64-424d-ba7e-405ceb2d248e
SUMMARY:BioFab Bootcamp: Balancing with Nature
DTSTAMP:20260421T140159Z
DTSTART:20130825T150000Z
DTEND:20130825T150000Z
URL:https://waag.org/en/event/biofab-bootcamp-balancing-nature
LOCATION:Waag\, Nieuwmarkt 4\, Amsterdam
CATEGORIES:biotechnology,digital fabrication
CREATED:20130624T111500Z
LAST-MODIFIED:20130826T122700Z
END:VEVENT
END:VCALENDAR
