BEGIN:VCALENDAR
VERSION:2.0
CALSCALE:GREGORIAN
PRODID:adamgibbons/ics
METHOD:PUBLISH
X-PUBLISHED-TTL:PT1H
BEGIN:VEVENT
UID:4085a05a-b12c-4bda-8464-4dc42ac78157
SUMMARY:DSI talks: data from the people\, for the people
DTSTAMP:20260420T235409Z
DTSTART:20181108T190000Z
DTEND:20181108T210000Z
URL:https://waag.org/en/event/dsi-talks-data-people-people
LOCATION:Waag\, Nieuwmarkt 4\, 1012 CR Amsterdam
CATEGORIES:digital social innovation,open data,commons,sustainability,colla
	borative economy
CREATED:20180713T132200Z
LAST-MODIFIED:20230709T123200Z
END:VEVENT
END:VCALENDAR
