BEGIN:VCALENDAR
VERSION:2.0
CALSCALE:GREGORIAN
PRODID:adamgibbons/ics
METHOD:PUBLISH
X-PUBLISHED-TTL:PT1H
BEGIN:VEVENT
UID:4279f2af-f521-4e3b-a536-49fefd76e4de
SUMMARY:20 years Waag: Code=Culture
DTSTAMP:20260421T101330Z
DTSTART:20141212T150000Z
DTEND:20141212T224500Z
URL:https://waag.org/en/event/20-years-waag-codeculture
LOCATION:De Waag\, Nieuwmarkt 4\, 1012 CR Amsterdam
CATEGORIES:technology,waag community
CREATED:20141024T115400Z
LAST-MODIFIED:20180804T150300Z
END:VEVENT
END:VCALENDAR
