BEGIN:VCALENDAR
VERSION:2.0
CALSCALE:GREGORIAN
PRODID:adamgibbons/ics
METHOD:PUBLISH
X-PUBLISHED-TTL:PT1H
BEGIN:VEVENT
UID:468bb17d-8f70-450a-abf5-feac6ddfb386
SUMMARY:Landschapsfestival: Autumn Equinox Celebration
DTSTAMP:20260421T084350Z
DTSTART:20230922T130000Z
DTEND:20230922T173000Z
URL:https://waag.org/en/event/landschapsfestival-autumn-equinox-celebration
LOCATION:Science Park 608\n1098 XH Amsterdam
CATEGORIES:
CREATED:20230815T095600Z
LAST-MODIFIED:20230922T121400Z
END:VEVENT
END:VCALENDAR
