BEGIN:VCALENDAR
VERSION:2.0
CALSCALE:GREGORIAN
PRODID:adamgibbons/ics
METHOD:PUBLISH
X-PUBLISHED-TTL:PT1H
BEGIN:VEVENT
UID:4a3be517-08b6-46e0-a193-0c628991defd
SUMMARY:Hack the Brain @ IDEA festival
DTSTAMP:20260421T013000Z
DTSTART:20151107T153000Z
DTEND:20151107T153000Z
URL:https://waag.org/en/event/hack-brain-idea-festival
LOCATION:Lloyd Hotel & Culturele Ambassade\, Oostelijke Handelskade 34\, Am
	sterdam
CATEGORIES:neuroscience,brainhacking
CREATED:20151026T155600Z
LAST-MODIFIED:20180413T152700Z
END:VEVENT
END:VCALENDAR
