BEGIN:VCALENDAR
VERSION:2.0
CALSCALE:GREGORIAN
PRODID:adamgibbons/ics
METHOD:PUBLISH
X-PUBLISHED-TTL:PT1H
BEGIN:VEVENT
UID:4d273351-1fb8-4ff9-b4f0-471bc4e75645
SUMMARY:Join Waag on a plane tree expedition
DTSTAMP:20260423T022415Z
DTSTART:20250430T170000Z
DTEND:20250430T183000Z
URL:https://waag.org/en/event/join-waag-plane-tree-expedition
LOCATION:De Haarlemmer Kweektuin\, Kleverlaan 9\, 2023 JC Haarlem 
CATEGORIES:
CREATED:20250416T130400Z
LAST-MODIFIED:20250416T131000Z
END:VEVENT
END:VCALENDAR
