BEGIN:VCALENDAR
VERSION:2.0
CALSCALE:GREGORIAN
PRODID:adamgibbons/ics
METHOD:PUBLISH
X-PUBLISHED-TTL:PT1H
BEGIN:VEVENT
UID:511d1a44-87ec-4be1-a975-4472fb00bfad
SUMMARY:Towards digital autonomy
DTSTAMP:20260425T221010Z
DTSTART:20260129T130000Z
DTEND:20260129T160000Z
URL:https://waag.org/en/event/towards-digital-autonomy
LOCATION:Waag FuturelabNieuwmarkt 41012CR AmsterdamAccessibility informatio
	n
CATEGORIES:
CREATED:20251216T155800Z
LAST-MODIFIED:20260219T143400Z
END:VEVENT
END:VCALENDAR
