BEGIN:VCALENDAR
VERSION:2.0
CALSCALE:GREGORIAN
PRODID:adamgibbons/ics
METHOD:PUBLISH
X-PUBLISHED-TTL:PT1H
BEGIN:VEVENT
UID:520c69fa-84a1-4fb8-b538-8cb9aeda7e4c
SUMMARY:Van origami tot pop-up: alles met papier
DTSTAMP:20260420T014004Z
DTSTART:20210719T080000Z
DTEND:20210721T100000Z
URL:https://waag.org/nl/event/van-origami-tot-pop-alles-met-papier
LOCATION:OBA Staatsliedenbuurt 
CATEGORIES:maker education
CREATED:20210716T120000Z
LAST-MODIFIED:20210716T134000Z
END:VEVENT
END:VCALENDAR
