BEGIN:VCALENDAR
VERSION:2.0
CALSCALE:GREGORIAN
PRODID:adamgibbons/ics
METHOD:PUBLISH
X-PUBLISHED-TTL:PT1H
BEGIN:VEVENT
UID:53775c64-6226-4a39-a972-089fdc80c79b
SUMMARY:FairBnB #4: partnerships and prototype
DTSTAMP:20260419T161751Z
DTSTART:20161212T160000Z
DTEND:20161212T160000Z
URL:https://waag.org/en/event/fairbnb-4-partnerships-and-prototype
LOCATION:Waag\, Nieuwmarkt 4\, 1012 CR Amsterdam
CATEGORIES:collaborative economy,commons
CREATED:20161128T195300Z
LAST-MODIFIED:20190501T093600Z
END:VEVENT
END:VCALENDAR
