BEGIN:VCALENDAR
VERSION:2.0
CALSCALE:GREGORIAN
PRODID:adamgibbons/ics
METHOD:PUBLISH
X-PUBLISHED-TTL:PT1H
BEGIN:VEVENT
UID:5aaa03c5-ce36-4046-ae5b-66a89b9502c1
SUMMARY:The Creative Democracy @ SNET Annual meeting
DTSTAMP:20260419T231910Z
DTSTART:20180627T090000Z
DTEND:20180627T103000Z
URL:https://waag.org/en/event/creative-democracy-snet-annual-meeting
LOCATION:Faculty of Arts and Social Science\, Maastricht University\, The N
	etherlands.
CATEGORIES:bioart,art & science
CREATED:20180625T100300Z
LAST-MODIFIED:20181008T141100Z
END:VEVENT
END:VCALENDAR
