BEGIN:VCALENDAR
VERSION:2.0
CALSCALE:GREGORIAN
PRODID:adamgibbons/ics
METHOD:PUBLISH
X-PUBLISHED-TTL:PT1H
BEGIN:VEVENT
UID:5cec50d6-41ed-4b08-b373-a579f5b9c70b
SUMMARY:MicroMemberships: new online revenue models
DTSTAMP:20260424T101935Z
DTSTART:20220623T180000Z
DTEND:20220623T200000Z
URL:https://waag.org/en/event/micromemberships-new-online-revenue-models
LOCATION:Theatrum Anatomicum at Waag
CATEGORIES:maker movement,code,open-source
CREATED:20220529T145300Z
LAST-MODIFIED:20250731T213700Z
END:VEVENT
END:VCALENDAR
