BEGIN:VCALENDAR
VERSION:2.0
CALSCALE:GREGORIAN
PRODID:adamgibbons/ics
METHOD:PUBLISH
X-PUBLISHED-TTL:PT1H
BEGIN:VEVENT
UID:5ff5c86a-4046-4344-943d-5c9b109eeeae
SUMMARY:DIY healthcare: for all\, by all - workshop
DTSTAMP:20260420T121344Z
DTSTART:20180405T180000Z
DTEND:20180405T210000Z
URL:https://waag.org/en/event/diy-healthcare-all-all-workshop
LOCATION:Waag\, Nieuwmarkt 4\, 1012 CR Amsterdam
CATEGORIES:healthcare,workshop,critical making
CREATED:20180314T122000Z
LAST-MODIFIED:20190407T103000Z
END:VEVENT
END:VCALENDAR
