BEGIN:VCALENDAR
VERSION:2.0
CALSCALE:GREGORIAN
PRODID:adamgibbons/ics
METHOD:PUBLISH
X-PUBLISHED-TTL:PT1H
BEGIN:VEVENT
UID:6138b6d1-628a-46c0-aa7c-724c707a1e27
SUMMARY:Sustainability market Green Light District
DTSTAMP:20260422T133052Z
DTSTART:20220925T080000Z
DTEND:20220925T110000Z
URL:https://waag.org/en/event/sustainability-market-green-light-district
LOCATION:De Waag
CATEGORIES:
CREATED:20220825T143700Z
LAST-MODIFIED:20220913T101300Z
END:VEVENT
END:VCALENDAR
