BEGIN:VCALENDAR
VERSION:2.0
CALSCALE:GREGORIAN
PRODID:adamgibbons/ics
METHOD:PUBLISH
X-PUBLISHED-TTL:PT1H
BEGIN:VEVENT
UID:64f161ff-0171-48b2-a858-8424680d7e8a
SUMMARY:Maptime #15 Vector tiles workshop
DTSTAMP:20260421T133219Z
DTSTART:20170621T153000Z
DTEND:20170621T153000Z
URL:https://waag.org/en/event/maptime-15-vector-tiles-workshop
LOCATION:Waag\, Nieuwmarkt 4\, 1012 CR Amsterdam
CATEGORIES:mapmaking
CREATED:20170530T121900Z
LAST-MODIFIED:20190703T135400Z
END:VEVENT
END:VCALENDAR
