BEGIN:VCALENDAR
VERSION:2.0
CALSCALE:GREGORIAN
PRODID:adamgibbons/ics
METHOD:PUBLISH
X-PUBLISHED-TTL:PT1H
BEGIN:VEVENT
UID:6c089228-ef73-4f48-ba20-8ccc7c3390d7
SUMMARY:Maptime University
DTSTAMP:20260421T133424Z
DTSTART:20171108T170000Z
DTEND:20171108T210000Z
URL:https://waag.org/en/event/maptime-university
LOCATION:Waag\, Nieuwmarkt 4\, 1012 CR Amsterdam
CATEGORIES:mapmaking
CREATED:20171018T152000Z
LAST-MODIFIED:20190703T135300Z
END:VEVENT
END:VCALENDAR
