BEGIN:VCALENDAR
VERSION:2.0
CALSCALE:GREGORIAN
PRODID:adamgibbons/ics
METHOD:PUBLISH
X-PUBLISHED-TTL:PT1H
BEGIN:VEVENT
UID:6e9e5cc1-af19-4633-93f2-78d001238f91
SUMMARY:Code for NL meetup: ethics in technology
DTSTAMP:20260421T084705Z
DTSTART:20180920T180000Z
DTEND:20180920T193000Z
URL:https://waag.org/en/event/code-nl-meetup-ethics-technology
LOCATION:Waag\, Nieuwmarkt 4\, 1012 CR Amsterdam
CATEGORIES:hacker ethic
CREATED:20180817T080400Z
LAST-MODIFIED:20190703T134700Z
END:VEVENT
END:VCALENDAR
