BEGIN:VCALENDAR
VERSION:2.0
CALSCALE:GREGORIAN
PRODID:adamgibbons/ics
METHOD:PUBLISH
X-PUBLISHED-TTL:PT1H
BEGIN:VEVENT
UID:6f9fcdab-374b-4d6b-9d39-b72e18fe8fdd
SUMMARY:Maptime AMS #1
DTSTAMP:20260421T133414Z
DTSTART:20141119T173000Z
DTEND:20141119T203000Z
URL:https://waag.org/en/event/maptime-ams-1
LOCATION:Waag\, Nieuwmarkt 4\, 1012 CR Amsterdam
CATEGORIES:mapmaking
CREATED:20141016T114900Z
LAST-MODIFIED:20190406T115300Z
END:VEVENT
END:VCALENDAR
