BEGIN:VCALENDAR
VERSION:2.0
CALSCALE:GREGORIAN
PRODID:adamgibbons/ics
METHOD:PUBLISH
X-PUBLISHED-TTL:PT1H
BEGIN:VEVENT
UID:709cbe9b-022a-41e3-b5d6-aaa5f2523c03
SUMMARY:Expert sessions: the Future of Open
DTSTAMP:20260424T212303Z
DTSTART:20130925T063000Z
DTEND:20130925T100000Z
URL:https://waag.org/en/event/expert-sessions-future-open
LOCATION:Het Ministerie van Open. Schedeldoekshaven 200\, Den Haag
CATEGORIES:creative commons,open data
CREATED:20130718T145100Z
LAST-MODIFIED:20130827T122200Z
END:VEVENT
END:VCALENDAR
