BEGIN:VCALENDAR
VERSION:2.0
CALSCALE:GREGORIAN
PRODID:adamgibbons/ics
METHOD:PUBLISH
X-PUBLISHED-TTL:PT1H
BEGIN:VEVENT
UID:737f7fcb-f899-47c0-af06-9eb6edb3581b
SUMMARY:'Together Science\, what's in it for me?'
DTSTAMP:20260425T000115Z
DTSTART:20170930T080000Z
DTEND:20170930T150000Z
URL:https://waag.org/en/event/together-science-whats-it-me
LOCATION:TEDx Katowice\, Katowice\, Śląskie Poland
CATEGORIES:do it together bio,citizen science
CREATED:20170925T151500Z
LAST-MODIFIED:20180318T185000Z
END:VEVENT
END:VCALENDAR
