BEGIN:VCALENDAR
VERSION:2.0
CALSCALE:GREGORIAN
PRODID:adamgibbons/ics
METHOD:PUBLISH
X-PUBLISHED-TTL:PT1H
BEGIN:VEVENT
UID:73b71e38-5458-4763-865e-ad92c55122df
SUMMARY:Symposium: BioSolar Cells
DTSTAMP:20260420T175902Z
DTSTART:20130318T230000Z
DTEND:20130318T230000Z
URL:https://waag.org/en/event/symposium-biosolar-cells
LOCATION:Gemeentemuseum\, Den Haag
CATEGORIES:biodesign,biotechnology
CREATED:20130225T153300Z
LAST-MODIFIED:20180718T132600Z
END:VEVENT
END:VCALENDAR
