BEGIN:VCALENDAR
VERSION:2.0
CALSCALE:GREGORIAN
PRODID:adamgibbons/ics
METHOD:PUBLISH
X-PUBLISHED-TTL:PT1H
BEGIN:VEVENT
UID:76a68e79-a88e-4378-b0dd-9e0e9971aed0
SUMMARY:Annual PhD meeting Neurosciences
DTSTAMP:20260421T123812Z
DTSTART:20151126T160000Z
DTEND:20151126T160000Z
URL:https://waag.org/en/event/annual-phd-meeting-neurosciences
LOCATION:Woudschoten Conference Centre\, Zeist
CATEGORIES:neuroscience
CREATED:20180208T095600Z
LAST-MODIFIED:20180208T095600Z
END:VEVENT
END:VCALENDAR
