BEGIN:VCALENDAR
VERSION:2.0
CALSCALE:GREGORIAN
PRODID:adamgibbons/ics
METHOD:PUBLISH
X-PUBLISHED-TTL:PT1H
BEGIN:VEVENT
UID:7fde3d67-0e1a-4e4b-a288-272f086a9cac
SUMMARY:The Loupe at the National Museum of History
DTSTAMP:20260424T135654Z
DTSTART:20141127T130000Z
DTEND:20141127T150000Z
URL:https://waag.org/en/event/loupe-national-museum-history
LOCATION:National Museum of History\, 16 Vitoshko Lale Strеet\, 1618 Sofia
CATEGORIES:cultural heritage
CREATED:20180204T175400Z
LAST-MODIFIED:20180804T142300Z
END:VEVENT
END:VCALENDAR
