BEGIN:VCALENDAR
VERSION:2.0
CALSCALE:GREGORIAN
PRODID:adamgibbons/ics
METHOD:PUBLISH
X-PUBLISHED-TTL:PT1H
BEGIN:VEVENT
UID:8230eb24-8a7c-475d-9b9c-12623794352b
SUMMARY:Closing event Makers of Noord
DTSTAMP:20260421T101328Z
DTSTART:20220826T160000Z
DTEND:20220826T183000Z
URL:https://waag.org/en/event/closing-event-makers-noord
LOCATION:Museum Amsterdam Noord\, Zamenhofstraat 28 A\, 1022 AD Amsterdam
CATEGORIES:
CREATED:20220804T112700Z
LAST-MODIFIED:20220804T113000Z
END:VEVENT
END:VCALENDAR
