BEGIN:VCALENDAR
VERSION:2.0
CALSCALE:GREGORIAN
PRODID:adamgibbons/ics
METHOD:PUBLISH
X-PUBLISHED-TTL:PT1H
BEGIN:VEVENT
UID:82d22805-ef7c-4f78-8239-299791ebb205
SUMMARY:Pet Shop Food Bar workshop: The Poop Doctor
DTSTAMP:20260421T184409Z
DTSTART:20161116T183000Z
DTEND:20161116T213000Z
URL:https://waag.org/en/event/pet-shop-food-bar-workshop-poop-doctor
LOCATION:Pet Shop Food Bar\, Houtkopersdwarsstraat 6\, Amsterdam
CATEGORIES:microorganisms,biohacking,biotechnology,workshop
CREATED:20161007T124100Z
LAST-MODIFIED:20190703T135600Z
END:VEVENT
END:VCALENDAR
