BEGIN:VCALENDAR
VERSION:2.0
CALSCALE:GREGORIAN
PRODID:adamgibbons/ics
METHOD:PUBLISH
X-PUBLISHED-TTL:PT1H
BEGIN:VEVENT
UID:86b9969c-6d9d-449e-956b-78d7b4e4a182
SUMMARY:Maptime AMS #3
DTSTAMP:20260421T133240Z
DTSTART:20150121T173000Z
DTEND:20150121T173000Z
URL:https://waag.org/en/event/maptime-ams-3
LOCATION:Waag\, Nieuwmarkt 4\, 1012 CR Amsterdam
CATEGORIES:mapmaking
CREATED:20141124T104200Z
LAST-MODIFIED:20190406T114900Z
END:VEVENT
END:VCALENDAR
