BEGIN:VCALENDAR
VERSION:2.0
CALSCALE:GREGORIAN
PRODID:adamgibbons/ics
METHOD:PUBLISH
X-PUBLISHED-TTL:PT1H
BEGIN:VEVENT
UID:8a9f0acd-7b3f-4568-ab47-faf9ab4c65d5
SUMMARY:Steamconf Barcelona 
DTSTAMP:20260421T101431Z
DTSTART:20180419T080000Z
DTEND:20180419T150000Z
URL:https://waag.org/en/event/steamconf-barcelona
LOCATION:Cosmocaixa\, Barcelona\, Spain
CATEGORIES:maker education
CREATED:20180321T105200Z
LAST-MODIFIED:20190330T190700Z
END:VEVENT
END:VCALENDAR
