BEGIN:VCALENDAR
VERSION:2.0
CALSCALE:GREGORIAN
PRODID:adamgibbons/ics
METHOD:PUBLISH
X-PUBLISHED-TTL:PT1H
BEGIN:VEVENT
UID:8c1e9d5e-1b17-49d3-a636-c3d9d3d3bcc2
SUMMARY:Out of the Cradle workshop
DTSTAMP:20260423T023331Z
DTSTART:20180227T090000Z
DTEND:20180227T160000Z
URL:https://waag.org/en/event/out-cradle-workshop
LOCATION:Waag\, Nieuwmarkt 4\, 1012 CR Amsterdam
CATEGORIES:outer space
CREATED:20180207T144600Z
LAST-MODIFIED:20190331T082600Z
END:VEVENT
END:VCALENDAR
