BEGIN:VCALENDAR
VERSION:2.0
CALSCALE:GREGORIAN
PRODID:adamgibbons/ics
METHOD:PUBLISH
X-PUBLISHED-TTL:PT1H
BEGIN:VEVENT
UID:8c79fc8c-e49d-4342-b606-8e31da2834da
SUMMARY:Amsterdecks presentation SAIL 2015
DTSTAMP:20260423T153102Z
DTSTART:20150820T163000Z
DTEND:20150820T163000Z
URL:https://waag.org/en/event/amsterdecks-presentation-sail-2015
LOCATION:Pakhuis de Zwijger\, grote zaal\, Piet Heinkade 179\, Amsterdam
CATEGORIES:participatory sensing,sensor technology,inclusive citizenship,ci
	tizen science
CREATED:20150807T103100Z
LAST-MODIFIED:20190407T165000Z
END:VEVENT
END:VCALENDAR
