BEGIN:VCALENDAR
VERSION:2.0
CALSCALE:GREGORIAN
PRODID:adamgibbons/ics
METHOD:PUBLISH
X-PUBLISHED-TTL:PT1H
BEGIN:VEVENT
UID:90840ce1-ddd3-45e2-a45b-2c038190b1d7
SUMMARY:SINN #9: Digital Social Innovation
DTSTAMP:20260419T165512Z
DTSTART:20140414T163000Z
DTEND:20140414T183000Z
URL:https://waag.org/en/event/sinn-9-digital-social-innovation
LOCATION:Pakhuis de Zwijger\, Piet Heinkade 181\, 1019 HC\, Amsterdam
CATEGORIES:social innovation
CREATED:20180204T163400Z
LAST-MODIFIED:20190405T150400Z
END:VEVENT
END:VCALENDAR
