BEGIN:VCALENDAR
VERSION:2.0
CALSCALE:GREGORIAN
PRODID:adamgibbons/ics
METHOD:PUBLISH
X-PUBLISHED-TTL:PT1H
BEGIN:VEVENT
UID:93d62f1c-784c-4a8b-be65-5d50524ee68c
SUMMARY:Workshop Ruby on Rails
DTSTAMP:20260424T040644Z
DTSTART:20130907T110000Z
DTEND:20130907T150000Z
URL:https://waag.org/en/event/workshop-ruby-rails
LOCATION:De Meevaart.  Balistraat 48\, 1094 JN Amsterdam
CATEGORIES:code,creative coding
CREATED:20130801T124400Z
LAST-MODIFIED:20190406T183800Z
END:VEVENT
END:VCALENDAR
