BEGIN:VCALENDAR
VERSION:2.0
CALSCALE:GREGORIAN
PRODID:adamgibbons/ics
METHOD:PUBLISH
X-PUBLISHED-TTL:PT1H
BEGIN:VEVENT
UID:94a42129-bdfe-48db-b38b-27aca8a72059
SUMMARY:Maker education clubavond
DTSTAMP:20260420T013924Z
DTSTART:20190627T164500Z
DTEND:20190627T190000Z
URL:https://waag.org/nl/event/maker-education-clubavond-0
LOCATION:Waag\, Nieuwmarkt 4\, 1012 CR Amsterdam
CATEGORIES:maker education,learning by making,21st century skills,tinkering
	,workshop
CREATED:20190218T132500Z
LAST-MODIFIED:20231120T111500Z
END:VEVENT
END:VCALENDAR
