BEGIN:VCALENDAR
VERSION:2.0
CALSCALE:GREGORIAN
PRODID:adamgibbons/ics
METHOD:PUBLISH
X-PUBLISHED-TTL:PT1H
BEGIN:VEVENT
UID:9695fbae-1b11-4ccf-998d-a29523487176
SUMMARY:Social Innovation Network Meetup #8
DTSTAMP:20260419T145548Z
DTSTART:20140310T190000Z
DTEND:20140310T220000Z
URL:https://waag.org/en/event/social-innovation-network-meetup-8
LOCATION:Pakhuis de Zwijger\, Piet Heinkade 181\, 1019 HC\, Amsterdam
CATEGORIES:social innovation
CREATED:20140226T141900Z
LAST-MODIFIED:20180723T073700Z
END:VEVENT
END:VCALENDAR
