BEGIN:VCALENDAR
VERSION:2.0
CALSCALE:GREGORIAN
PRODID:adamgibbons/ics
METHOD:PUBLISH
X-PUBLISHED-TTL:PT1H
BEGIN:VEVENT
UID:96f4a217-21a0-4873-919d-2adeb5852d54
SUMMARY:Social Innovation Meetup #4
DTSTAMP:20260419T145149Z
DTSTART:20130425T163000Z
DTEND:20130425T190000Z
URL:https://waag.org/en/event/social-innovation-meetup-4
LOCATION:Pakhuis de Zwijger\, Piet Heinkade 179\, Amsterdam
CATEGORIES:social innovation
CREATED:20130405T121400Z
LAST-MODIFIED:20190405T151500Z
END:VEVENT
END:VCALENDAR
