BEGIN:VCALENDAR
VERSION:2.0
CALSCALE:GREGORIAN
PRODID:adamgibbons/ics
METHOD:PUBLISH
X-PUBLISHED-TTL:PT1H
BEGIN:VEVENT
UID:992265be-538d-4e90-98e1-ae292c28360f
SUMMARY:IPON: Education & ICT
DTSTAMP:20260424T012034Z
DTSTART:20130410T063000Z
DTEND:20130411T140000Z
URL:https://waag.org/en/event/ipon-education-ict
LOCATION:Jaarbeurs\, Utrecht
CATEGORIES:serious gaming,application / software,interactive design
CREATED:20130312T130300Z
LAST-MODIFIED:20190330T210900Z
END:VEVENT
END:VCALENDAR
