BEGIN:VCALENDAR
VERSION:2.0
CALSCALE:GREGORIAN
PRODID:adamgibbons/ics
METHOD:PUBLISH
X-PUBLISHED-TTL:PT1H
BEGIN:VEVENT
UID:9955bb42-3cd4-41ba-8b0f-bb965992e4ad
SUMMARY:Design Thinking evening
DTSTAMP:20260425T195056Z
DTSTART:20170111T170000Z
DTEND:20170111T210000Z
URL:https://waag.org/en/event/design-thinking-evening
LOCATION:Waag\, Nieuwmarkt 4\, 1012 CR Amsterdam
CATEGORIES:design thinking
CREATED:20161208T134800Z
LAST-MODIFIED:20190703T135500Z
END:VEVENT
END:VCALENDAR
