BEGIN:VCALENDAR
VERSION:2.0
CALSCALE:GREGORIAN
PRODID:adamgibbons/ics
METHOD:PUBLISH
X-PUBLISHED-TTL:PT1H
BEGIN:VEVENT
UID:a1bcaf89-0bd6-4f94-b114-2567c691d682
SUMMARY:Waag Open: Deep dive into the Fablab
DTSTAMP:20260422T133004Z
DTSTART:20221006T173000Z
DTEND:20221006T200000Z
URL:https://waag.org/en/event/waag-open-deep-dive-fablab
LOCATION:Waag\, Nieuwmarkt 4 in Amsterdam
CATEGORIES:
CREATED:20220825T153000Z
LAST-MODIFIED:20221003T091100Z
END:VEVENT
END:VCALENDAR
